BEGIN:VCALENDAR
VERSION:2.0
PRODID:-//AFIBROM - ECPv6.15.12.1//NONSGML v1.0//EN
CALSCALE:GREGORIAN
METHOD:PUBLISH
X-ORIGINAL-URL:https://afibrom.org
X-WR-CALDESC:Eventos para AFIBROM
REFRESH-INTERVAL;VALUE=DURATION:PT1H
X-Robots-Tag:noindex
X-PUBLISHED-TTL:PT1H
BEGIN:VTIMEZONE
TZID:Europe/Madrid
BEGIN:DAYLIGHT
TZOFFSETFROM:+0100
TZOFFSETTO:+0200
TZNAME:CEST
DTSTART:20240331T010000
END:DAYLIGHT
BEGIN:STANDARD
TZOFFSETFROM:+0200
TZOFFSETTO:+0100
TZNAME:CET
DTSTART:20241027T010000
END:STANDARD
BEGIN:DAYLIGHT
TZOFFSETFROM:+0100
TZOFFSETTO:+0200
TZNAME:CEST
DTSTART:20250330T010000
END:DAYLIGHT
BEGIN:STANDARD
TZOFFSETFROM:+0200
TZOFFSETTO:+0100
TZNAME:CET
DTSTART:20251026T010000
END:STANDARD
BEGIN:DAYLIGHT
TZOFFSETFROM:+0100
TZOFFSETTO:+0200
TZNAME:CEST
DTSTART:20260329T010000
END:DAYLIGHT
BEGIN:STANDARD
TZOFFSETFROM:+0200
TZOFFSETTO:+0100
TZNAME:CET
DTSTART:20261025T010000
END:STANDARD
END:VTIMEZONE
BEGIN:VEVENT
DTSTART;TZID=Europe/Madrid:20250430T180000
DTEND;TZID=Europe/Madrid:20250430T190000
DTSTAMP:20260419T155920
CREATED:20250411T155026Z
LAST-MODIFIED:20250411T155112Z
UID:18100-1746036000-1746039600@afibrom.org
SUMMARY:Masterclass Gratuita “Thalassoterapia: una ayuda natural para el dolor”
DESCRIPTION:Masterclass gratuita – “Thalassoterapia: una ayuda natural para el dolor”\n🗓 Fecha: Miércoles\, 30 de abril de 2025🕕 Hora: 18:00 h💻 Formato: Online⚠️ Nota: Las masterclass mensuales de AFIBROM se realizan únicamente en directo. La grabación está disponible exclusivamente para socios y socias. Si deseas unirte a la asociación\, puedes hacerlo a través de nuestra web: https://afibrom.org/hazte-socio/ \nLa thalassoterapia es una forma de tratamiento que utiliza los beneficios del agua de mar\, el clima marino y otros elementos marinos (algas\, barro marino\, etc.) para mejorar la salud y el bienestar. Esta terapia\, con raíces en la antigua Grecia\, está especialmente indicada en enfermedades como la fibromialgia y el dolor crónico\, gracias a su capacidad para relajar los músculos\, reducir la inflamación\, mejorar el estado de ánimo y favorecer el descanso. \nEn esta masterclass gratuita\, hablaremos sobre el papel de la thalassoterapia como parte de un enfoque integral de autocuidado y bienestar en personas que sufren enfermedades crónicas. \n¿Qué aprenderás en esta sesión?\n✔️ Qué es la thalassoterapia y cómo actúa sobre el cuerpo.✔️ Beneficios específicos para personas con fibromialgia y dolor crónico.✔️ Cómo integrar la thalassoterapia en un plan de autocuidado.✔️ Casos prácticos y ejemplos desde la experiencia clínica. \n🔹 Impartido por: Katherine Lozano\, directora médica de Palasiet Wellness Clinic & Thalasso\, referente en programas de salud marina integrativa.🔹 Dirigido a: Personas con fibromialgia\, fatiga crónica o dolor crónico\, profesionales de la salud y del bienestar\, y cualquier persona interesada en conocer terapias complementarias con evidencia y respaldo médico. \n📌 Inscripción gratuita. Abierta hasta el día anterior por la mañana.❤️ Inscripción solidaria: Si quieres apoyar nuestro trabajo y ayudarnos a seguir ofreciendo formación gratuita\, puedes realizar una inscripción solidaria\, que incluye una donación destinada a continuar nuestra labor. Abierta hasta el día del evento. \n👉 ¡Inscríbete y reserva tu plaza ahora! \n🖥️ El enlace de acceso se enviará a las personas inscritas el día antes del evento.
URL:https://afibrom.org/evento/inscripcion-masterclass-thalassoterapia/
LOCATION:Conferencia Online\, Conferencia Online\, España
ATTACH;FMTTYPE=image/png:https://afibrom.org/wp-content/uploads/2025/04/Copia-de-Copia-de-Copia-de-MASTERCLASS-ENERO.png
ORGANIZER;CN="AFIBROM":MAILTO:afibrom@afibrom.org
END:VEVENT
END:VCALENDAR